BEGIN:VCALENDAR
VERSION:2.0
PRODID:-//Borough of New Alexandria - ECPv6.15.20//NONSGML v1.0//EN
CALSCALE:GREGORIAN
METHOD:PUBLISH
X-WR-CALNAME:Borough of New Alexandria
X-ORIGINAL-URL:https://newalexpa.org
X-WR-CALDESC:Events for Borough of New Alexandria
REFRESH-INTERVAL;VALUE=DURATION:PT1H
X-Robots-Tag:noindex
X-PUBLISHED-TTL:PT1H
BEGIN:VTIMEZONE
TZID:America/New_York
BEGIN:DAYLIGHT
TZOFFSETFROM:-0500
TZOFFSETTO:-0400
TZNAME:EDT
DTSTART:20240310T070000
END:DAYLIGHT
BEGIN:STANDARD
TZOFFSETFROM:-0400
TZOFFSETTO:-0500
TZNAME:EST
DTSTART:20241103T060000
END:STANDARD
BEGIN:DAYLIGHT
TZOFFSETFROM:-0500
TZOFFSETTO:-0400
TZNAME:EDT
DTSTART:20250309T070000
END:DAYLIGHT
BEGIN:STANDARD
TZOFFSETFROM:-0400
TZOFFSETTO:-0500
TZNAME:EST
DTSTART:20251102T060000
END:STANDARD
BEGIN:DAYLIGHT
TZOFFSETFROM:-0500
TZOFFSETTO:-0400
TZNAME:EDT
DTSTART:20260308T070000
END:DAYLIGHT
BEGIN:STANDARD
TZOFFSETFROM:-0400
TZOFFSETTO:-0500
TZNAME:EST
DTSTART:20261101T060000
END:STANDARD
END:VTIMEZONE
BEGIN:VEVENT
DTSTART;VALUE=DATE:20250614
DTEND;VALUE=DATE:20250615
DTSTAMP:20260424T045817
CREATED:20250714T172801Z
LAST-MODIFIED:20251212T012801Z
UID:5315-1749859200-1749945599@newalexpa.org
SUMMARY:Townwide Yard Sale
DESCRIPTION:Overview\nNothing says springtime in New Alex like the annual Townwide Yard and Sub Sale! \n\n\nPurpose of Event\n\nTo celebrate our neighborhood\, meet new people and clean out the garage!\nGet here early! It gets real busy\, real fast.\n\n\n 
URL:https://newalexpa.org/event/townwide-yard-sale/
LOCATION:PA
CATEGORIES:Other Events
ATTACH;FMTTYPE=image/jpeg:https://newalexpa.org/wp-content/uploads/2024/05/YardSale.jpg
END:VEVENT
END:VCALENDAR