BEGIN:VCALENDAR
VERSION:2.0
PRODID:-//Borough of New Alexandria - ECPv6.15.20//NONSGML v1.0//EN
CALSCALE:GREGORIAN
METHOD:PUBLISH
X-ORIGINAL-URL:https://newalexpa.org
X-WR-CALDESC:Events for Borough of New Alexandria
REFRESH-INTERVAL;VALUE=DURATION:PT1H
X-Robots-Tag:noindex
X-PUBLISHED-TTL:PT1H
BEGIN:VTIMEZONE
TZID:America/New_York
BEGIN:DAYLIGHT
TZOFFSETFROM:-0500
TZOFFSETTO:-0400
TZNAME:EDT
DTSTART:20250309T070000
END:DAYLIGHT
BEGIN:STANDARD
TZOFFSETFROM:-0400
TZOFFSETTO:-0500
TZNAME:EST
DTSTART:20251102T060000
END:STANDARD
BEGIN:DAYLIGHT
TZOFFSETFROM:-0500
TZOFFSETTO:-0400
TZNAME:EDT
DTSTART:20260308T070000
END:DAYLIGHT
BEGIN:STANDARD
TZOFFSETFROM:-0400
TZOFFSETTO:-0500
TZNAME:EST
DTSTART:20261101T060000
END:STANDARD
BEGIN:DAYLIGHT
TZOFFSETFROM:-0500
TZOFFSETTO:-0400
TZNAME:EDT
DTSTART:20270314T070000
END:DAYLIGHT
BEGIN:STANDARD
TZOFFSETFROM:-0400
TZOFFSETTO:-0500
TZNAME:EST
DTSTART:20271107T060000
END:STANDARD
END:VTIMEZONE
BEGIN:VEVENT
DTSTART;TZID=America/New_York:20260105T190000
DTEND;TZID=America/New_York:20260105T200000
DTSTAMP:20260423T164139
CREATED:20251207T133024Z
LAST-MODIFIED:20251212T010145Z
UID:5644-1767639600-1767643200@newalexpa.org
SUMMARY:Reorganizational Meeting
DESCRIPTION:This is the reorganizational/council meeting. \nThe reorganizational meeting happens on the first Monday of even number years.
URL:https://newalexpa.org/event/agenda-meeting-2/
LOCATION:Community Center\, 207 W Main St\, New Alexandria\, PA\, 15670\, United States
CATEGORIES:Borough Council
ATTACH;FMTTYPE=image/jpeg:https://newalexpa.org/wp-content/uploads/2024/01/FB-graphicgr-01-2.jpg
ORGANIZER;CN="Borough":MAILTO:staff@NewAlexPA.org
END:VEVENT
END:VCALENDAR