BEGIN:VCALENDAR
VERSION:2.0
PRODID:-//Borough of New Alexandria - ECPv6.15.20//NONSGML v1.0//EN
CALSCALE:GREGORIAN
METHOD:PUBLISH
X-ORIGINAL-URL:https://newalexpa.org
X-WR-CALDESC:Events for Borough of New Alexandria
REFRESH-INTERVAL;VALUE=DURATION:PT1H
X-Robots-Tag:noindex
X-PUBLISHED-TTL:PT1H
BEGIN:VTIMEZONE
TZID:America/New_York
BEGIN:DAYLIGHT
TZOFFSETFROM:-0500
TZOFFSETTO:-0400
TZNAME:EDT
DTSTART:20250309T070000
END:DAYLIGHT
BEGIN:STANDARD
TZOFFSETFROM:-0400
TZOFFSETTO:-0500
TZNAME:EST
DTSTART:20251102T060000
END:STANDARD
BEGIN:DAYLIGHT
TZOFFSETFROM:-0500
TZOFFSETTO:-0400
TZNAME:EDT
DTSTART:20260308T070000
END:DAYLIGHT
BEGIN:STANDARD
TZOFFSETFROM:-0400
TZOFFSETTO:-0500
TZNAME:EST
DTSTART:20261101T060000
END:STANDARD
BEGIN:DAYLIGHT
TZOFFSETFROM:-0500
TZOFFSETTO:-0400
TZNAME:EDT
DTSTART:20270314T070000
END:DAYLIGHT
BEGIN:STANDARD
TZOFFSETFROM:-0400
TZOFFSETTO:-0500
TZNAME:EST
DTSTART:20271107T060000
END:STANDARD
END:VTIMEZONE
BEGIN:VEVENT
DTSTART;TZID=America/New_York:20260304T180000
DTEND;TZID=America/New_York:20260304T190000
DTSTAMP:20260423T132231
CREATED:20251029T004619Z
LAST-MODIFIED:20251212T014759Z
UID:5659-1772647200-1772650800@newalexpa.org
SUMMARY:Agenda Meeting
DESCRIPTION:Overview\nCouncil agenda meetings are held at 6 p.m. on the first Wednesday of the month in the Community Center.  No borough action can be taken at this meeting. \nThese meetings are open to the public. \n\n\nPurpose of Event\n\nThe Pennsylvania Sunshine Act\, 65 Pa.C.S. §§ 701-716\, requires agencies to deliberate and take official action on agency business in an open and public meeting. It requires that meetings have prior notice\, and that the public can attend\, participate\, and comment before an agency takes that official action. The Office of Open Records (OOR) does not enforce the Sunshine Act\, but it does provide training on the law.
URL:https://newalexpa.org/event/agenda-meeting-3/
LOCATION:Community Center\, 207 W Main St\, New Alexandria\, PA\, 15670\, United States
CATEGORIES:Borough Council
ATTACH;FMTTYPE=image/jpeg:https://newalexpa.org/wp-content/uploads/2024/01/FB-graphicgr-01-2.jpg
ORGANIZER;CN="Borough":MAILTO:staff@NewAlexPA.org
END:VEVENT
END:VCALENDAR