BEGIN:VCALENDAR
VERSION:2.0
PRODID:-//Borough of New Alexandria - ECPv6.15.20//NONSGML v1.0//EN
CALSCALE:GREGORIAN
METHOD:PUBLISH
X-WR-CALNAME:Borough of New Alexandria
X-ORIGINAL-URL:https://newalexpa.org
X-WR-CALDESC:Events for Borough of New Alexandria
REFRESH-INTERVAL;VALUE=DURATION:PT1H
X-Robots-Tag:noindex
X-PUBLISHED-TTL:PT1H
BEGIN:VTIMEZONE
TZID:America/New_York
BEGIN:DAYLIGHT
TZOFFSETFROM:-0500
TZOFFSETTO:-0400
TZNAME:EDT
DTSTART:20230312T070000
END:DAYLIGHT
BEGIN:STANDARD
TZOFFSETFROM:-0400
TZOFFSETTO:-0500
TZNAME:EST
DTSTART:20231105T060000
END:STANDARD
BEGIN:DAYLIGHT
TZOFFSETFROM:-0500
TZOFFSETTO:-0400
TZNAME:EDT
DTSTART:20240310T070000
END:DAYLIGHT
BEGIN:STANDARD
TZOFFSETFROM:-0400
TZOFFSETTO:-0500
TZNAME:EST
DTSTART:20241103T060000
END:STANDARD
BEGIN:DAYLIGHT
TZOFFSETFROM:-0500
TZOFFSETTO:-0400
TZNAME:EDT
DTSTART:20250309T070000
END:DAYLIGHT
BEGIN:STANDARD
TZOFFSETFROM:-0400
TZOFFSETTO:-0500
TZNAME:EST
DTSTART:20251102T060000
END:STANDARD
END:VTIMEZONE
BEGIN:VEVENT
DTSTART;TZID=America/New_York:20240420T180000
DTEND;TZID=America/New_York:20240420T200000
DTSTAMP:20260423T200008
CREATED:20240127T191254Z
LAST-MODIFIED:20240127T191355Z
UID:3898-1713636000-1713643200@newalexpa.org
SUMMARY:New Alex VFD Cash Bash
DESCRIPTION:Cash Bash!\nCash Bash \n\n\nPurpose of Event\n\nCommunity builder\nFundraiser
URL:https://newalexpa.org/event/new-alex-vfd-cash-bash/
LOCATION:New Alexandria Fireman’s Club\, 8370 State Route 22\, New Alexandria\, PA\, 15670\, United States
CATEGORIES:Other Events
ATTACH;FMTTYPE=image/jpeg:https://newalexpa.org/wp-content/uploads/2024/01/cashbash.jpeg
END:VEVENT
BEGIN:VEVENT
DTSTART;TZID=America/New_York:20240329T150000
DTEND;TZID=America/New_York:20240329T190000
DTSTAMP:20260423T200008
CREATED:20240127T174548Z
LAST-MODIFIED:20240325T170905Z
UID:3888-1711724400-1711738800@newalexpa.org
SUMMARY:VFD Fish Fry
DESCRIPTION:Lenten Fish Fry\nIt’s that time of year\, again!  Eat in or Take Out or DRIVE THRU.  The New Alex Fire Department Fish Fry has lunch and dinners you can choose from fried or baked fish\, popcorn shrimp or chicken tenders\, “Lazy Perogies\,” halushki\, plus side orders! \n\n\nPurpose of Event\n\nDinner Specials from 3pm – 7pm.\nIt’s a good idea to call early!
URL:https://newalexpa.org/event/new-alex-fire-department-fish-fry-6/
LOCATION:New Alexandria Fireman’s Club\, 8370 State Route 22\, New Alexandria\, PA\, 15670\, United States
CATEGORIES:Other Events
ATTACH;FMTTYPE=image/webp:https://newalexpa.org/wp-content/uploads/2023/05/fishsandwich-e1553952988279.jpg.webp
END:VEVENT
BEGIN:VEVENT
DTSTART;TZID=America/New_York:20240322T150000
DTEND;TZID=America/New_York:20240322T190000
DTSTAMP:20260423T200008
CREATED:20240127T194619Z
LAST-MODIFIED:20240307T171210Z
UID:3886-1711119600-1711134000@newalexpa.org
SUMMARY:New Alex VFD Fish Fry
DESCRIPTION:Lenten Fish Fry\nIt’s that time of year\, again!  Eat in or Take Out or DRIVE THRU.  The New Alex Fire Department Fish Fry has lunch and dinners you can choose from fried or baked fish\, popcorn shrimp or chicken tenders\, “Lazy Perogies\,” halushki\, plus side orders! \n\n\nPurpose of Event\n\nDinner Specials from 3pm – 7pm.\nIt’s a good idea to call early!
URL:https://newalexpa.org/event/new-alex-fire-department-fish-fry-5/
LOCATION:New Alexandria Fireman’s Club\, 8370 State Route 22\, New Alexandria\, PA\, 15670\, United States
CATEGORIES:Other Events
ATTACH;FMTTYPE=image/webp:https://newalexpa.org/wp-content/uploads/2023/05/fishsandwich-e1553952988279.jpg.webp
END:VEVENT
BEGIN:VEVENT
DTSTART;TZID=America/New_York:20240315T150000
DTEND;TZID=America/New_York:20240315T190000
DTSTAMP:20260423T200008
CREATED:20240127T194734Z
LAST-MODIFIED:20240307T171051Z
UID:3884-1710514800-1710529200@newalexpa.org
SUMMARY:New Alex VFD Fish Fry
DESCRIPTION:Lenten Fish Fry\nIt’s that time of year\, again!  Eat in or Take Out or DRIVE THRU.  The New Alex Fire Department Fish Fry has lunch and dinners you can choose from fried or baked fish\, popcorn shrimp or chicken tenders\, “Lazy Perogies\,” halushki\, plus side orders! \n\n\nPurpose of Event\n\nDinner Specials from 3pm – 7pm.\nIt’s a good idea to call early!
URL:https://newalexpa.org/event/new-alex-fire-department-fish-fry-4/
LOCATION:New Alexandria Fireman’s Club\, 8370 State Route 22\, New Alexandria\, PA\, 15670\, United States
CATEGORIES:Other Events
ATTACH;FMTTYPE=image/webp:https://newalexpa.org/wp-content/uploads/2023/05/fishsandwich-e1553952988279.jpg.webp
END:VEVENT
BEGIN:VEVENT
DTSTART;TZID=America/New_York:20240308T150000
DTEND;TZID=America/New_York:20240308T190000
DTSTAMP:20260423T200008
CREATED:20240127T172511Z
LAST-MODIFIED:20240127T195023Z
UID:3881-1709910000-1709924400@newalexpa.org
SUMMARY:New Alex VFD Fish Fry
DESCRIPTION:Lenten Fish Fry\nIt’s that time of year\, again!  Eat in or Take Out or DRIVE THRU.  The New Alex Fire Department Fish Fry has lunch and dinners you can choose from fried or baked fish\, popcorn shrimp or chicken tenders\, “Lazy Perogies\,” halushki\, plus side orders! \n\n\nPurpose of Event\n\nDinner Specials from 3pm – 7pm.\nIt’s a good idea to call early!
URL:https://newalexpa.org/event/new-alex-fire-department-fish-fry-3/
LOCATION:New Alexandria Fireman’s Club\, 8370 State Route 22\, New Alexandria\, PA\, 15670\, United States
CATEGORIES:Other Events
ATTACH;FMTTYPE=image/webp:https://newalexpa.org/wp-content/uploads/2023/05/fishsandwich-e1553952988279.jpg.webp
END:VEVENT
BEGIN:VEVENT
DTSTART;TZID=America/New_York:20240308T000000
DTEND;TZID=America/New_York:20240308T000000
DTSTAMP:20260423T200008
CREATED:20240308T153204Z
LAST-MODIFIED:20240308T153610Z
UID:4854-1709856000-1709856000@newalexpa.org
SUMMARY:Sojourn After Party
DESCRIPTION:Overview\nThe annual Sojourn After Party is huge event!  More than 250 kayakers participate in the Loyalhanna Sojourn.  Kayakers\, friends and family enjoy the rest of the day at Gray Wing Park\, enjoying live music\, vendors\, food trucks and more! \n\n\nPurpose of Event\n\n\nTo celebrate the end of a long day on the Loyalhanna Creek!\n\n\nFun for all ages!
URL:https://newalexpa.org/event/sojourn-after-party/
LOCATION:Gray Wing Park\, 430 W Main St\, New Alexandria\, PA\, 15670\, United States
CATEGORIES:Activities Committee
ATTACH;FMTTYPE=image/jpeg:https://newalexpa.org/wp-content/uploads/2024/01/IMG_0429-3-e1709488634495.jpg
ORGANIZER;CN="Activities Committee":MAILTO:activitiescommittee@newalexpa.org
END:VEVENT
BEGIN:VEVENT
DTSTART;TZID=America/New_York:20240301T150000
DTEND;TZID=America/New_York:20240301T190000
DTSTAMP:20260423T200008
CREATED:20240127T194852Z
LAST-MODIFIED:20240514T175337Z
UID:3879-1709305200-1709319600@newalexpa.org
SUMMARY:New Alex VFD Fish Fry
DESCRIPTION:Lenten Fish Fry\nIt’s that time of year\, again!  Eat in or Take Out or DRIVE THRU.  The New Alex Fire Department Fish Fry has lunch and dinners you can choose from fried or baked fish\, popcorn shrimp or chicken tenders\, “Lazy Perogies\,” halushki\, plus side orders! \n\n\nPurpose of Event\n\nDinner Specials from 3pm – 7pm.\nIt’s a good idea to call early!
URL:https://newalexpa.org/event/new-alex-fire-department-fish-fry-2/
LOCATION:New Alexandria Fireman’s Club\, 8370 State Route 22\, New Alexandria\, PA\, 15670\, United States
CATEGORIES:Other Events
ATTACH;FMTTYPE=image/webp:https://newalexpa.org/wp-content/uploads/2023/05/fishsandwich-e1553952988279.jpg.webp
END:VEVENT
BEGIN:VEVENT
DTSTART;TZID=America/New_York:20240223T150000
DTEND;TZID=America/New_York:20240223T190000
DTSTAMP:20260423T200008
CREATED:20240127T194937Z
LAST-MODIFIED:20240127T195437Z
UID:3877-1708700400-1708714800@newalexpa.org
SUMMARY:New Alex VFDFish Fry
DESCRIPTION:Lenten Fish Fry\nIt’s that time of year\, again!  Eat in or Take Out or DRIVE THRU.  The New Alex Fire Department Fish Fry has lunch and dinners you can choose from fried or baked fish\, popcorn shrimp or chicken tenders\, “Lazy Perogies\,” halushki\, plus side orders! \n\n\nPurpose of Event\n\nDinner Specials from 3pm – 7pm.\nIt’s a good idea to call early!
URL:https://newalexpa.org/event/new-alex-fire-department-fish-fry/
LOCATION:New Alexandria Fireman’s Club\, 8370 State Route 22\, New Alexandria\, PA\, 15670\, United States
CATEGORIES:Other Events
ATTACH;FMTTYPE=image/webp:https://newalexpa.org/wp-content/uploads/2023/05/fishsandwich-e1553952988279.jpg.webp
END:VEVENT
BEGIN:VEVENT
DTSTART;TZID=America/New_York:20240216T150000
DTEND;TZID=America/New_York:20240216T190000
DTSTAMP:20260423T200008
CREATED:20240127T195002Z
LAST-MODIFIED:20240127T195307Z
UID:1616-1708095600-1708110000@newalexpa.org
SUMMARY:New Alex VFD Fish Fry
DESCRIPTION:Lenten Fish Fry\nIt’s that time of year\, again!  Eat in or Take Out or DRIVE THRU.  The New Alex Fire Department Fish Fry has lunch and dinners you can choose from fried or baked fish\, popcorn shrimp or chicken tenders\, “Lazy Perogies\,” halushki\, plus side orders! \n\n\nPurpose of Event\n\nDinner Specials from 3pm – 7pm.\nIt’s a good idea to call early!
URL:https://newalexpa.org/event/fishfry/
LOCATION:New Alexandria Fireman’s Club\, 8370 State Route 22\, New Alexandria\, PA\, 15670\, United States
CATEGORIES:Other Events
ATTACH;FMTTYPE=image/jpeg:https://newalexpa.org/wp-content/uploads/2023/05/fishsandwich-169jpeg.jpeg
END:VEVENT
END:VCALENDAR