BEGIN:VCALENDAR
VERSION:2.0
PRODID:-//Borough of New Alexandria - ECPv6.15.20//NONSGML v1.0//EN
CALSCALE:GREGORIAN
METHOD:PUBLISH
X-ORIGINAL-URL:https://newalexpa.org
X-WR-CALDESC:Events for Borough of New Alexandria
REFRESH-INTERVAL;VALUE=DURATION:PT1H
X-Robots-Tag:noindex
X-PUBLISHED-TTL:PT1H
BEGIN:VTIMEZONE
TZID:America/New_York
BEGIN:DAYLIGHT
TZOFFSETFROM:-0500
TZOFFSETTO:-0400
TZNAME:EDT
DTSTART:20230312T070000
END:DAYLIGHT
BEGIN:STANDARD
TZOFFSETFROM:-0400
TZOFFSETTO:-0500
TZNAME:EST
DTSTART:20231105T060000
END:STANDARD
BEGIN:DAYLIGHT
TZOFFSETFROM:-0500
TZOFFSETTO:-0400
TZNAME:EDT
DTSTART:20240310T070000
END:DAYLIGHT
BEGIN:STANDARD
TZOFFSETFROM:-0400
TZOFFSETTO:-0500
TZNAME:EST
DTSTART:20241103T060000
END:STANDARD
BEGIN:DAYLIGHT
TZOFFSETFROM:-0500
TZOFFSETTO:-0400
TZNAME:EDT
DTSTART:20250309T070000
END:DAYLIGHT
BEGIN:STANDARD
TZOFFSETFROM:-0400
TZOFFSETTO:-0500
TZNAME:EST
DTSTART:20251102T060000
END:STANDARD
END:VTIMEZONE
BEGIN:VEVENT
DTSTART;TZID=America/New_York:20240726T080000
DTEND;TZID=America/New_York:20240726T170000
DTSTAMP:20260424T215147
CREATED:20240308T172206Z
LAST-MODIFIED:20240308T172206Z
UID:4868-1721980800-1722013200@newalexpa.org
SUMMARY:Movie Night
DESCRIPTION:Overview\nThere’s nothing quite like an evening in the park with a classic movie. \n\n\nPurpose of Event\n\nEnjoy the night air with movie and bonfire.  Stay updated with the movie and schedule on the Activities Committee Facebook page!
URL:https://newalexpa.org/event/movie-night/
LOCATION:Gray Wing Park\, 430 W Main St\, New Alexandria\, PA\, 15670\, United States
CATEGORIES:Activities Committee
ATTACH;FMTTYPE=image/jpeg:https://newalexpa.org/wp-content/uploads/2024/03/movie.jpg
ORGANIZER;CN="Activities Committee":MAILTO:activitiescommittee@newalexpa.org
END:VEVENT
END:VCALENDAR