BEGIN:VCALENDAR
VERSION:2.0
PRODID:-//Borough of New Alexandria - ECPv6.15.20//NONSGML v1.0//EN
CALSCALE:GREGORIAN
METHOD:PUBLISH
X-WR-CALNAME:Borough of New Alexandria
X-ORIGINAL-URL:https://newalexpa.org
X-WR-CALDESC:Events for Borough of New Alexandria
REFRESH-INTERVAL;VALUE=DURATION:PT1H
X-Robots-Tag:noindex
X-PUBLISHED-TTL:PT1H
BEGIN:VTIMEZONE
TZID:America/New_York
BEGIN:DAYLIGHT
TZOFFSETFROM:-0500
TZOFFSETTO:-0400
TZNAME:EDT
DTSTART:20240310T070000
END:DAYLIGHT
BEGIN:STANDARD
TZOFFSETFROM:-0400
TZOFFSETTO:-0500
TZNAME:EST
DTSTART:20241103T060000
END:STANDARD
BEGIN:DAYLIGHT
TZOFFSETFROM:-0500
TZOFFSETTO:-0400
TZNAME:EDT
DTSTART:20250309T070000
END:DAYLIGHT
BEGIN:STANDARD
TZOFFSETFROM:-0400
TZOFFSETTO:-0500
TZNAME:EST
DTSTART:20251102T060000
END:STANDARD
BEGIN:DAYLIGHT
TZOFFSETFROM:-0500
TZOFFSETTO:-0400
TZNAME:EDT
DTSTART:20260308T070000
END:DAYLIGHT
BEGIN:STANDARD
TZOFFSETFROM:-0400
TZOFFSETTO:-0500
TZNAME:EST
DTSTART:20261101T060000
END:STANDARD
END:VTIMEZONE
BEGIN:VEVENT
DTSTART;TZID=America/New_York:20250412T110000
DTEND;TZID=America/New_York:20250412T140000
DTSTAMP:20260424T073929
CREATED:20250331T184245Z
LAST-MODIFIED:20250403T194017Z
UID:4848-1744455600-1744466400@newalexpa.org
SUMMARY:Easter Egg Hunt
DESCRIPTION:Overview\nThe annual Easter Egg Hunt is open to kids of all ages! \n\n\nPurpose of Event\n\n\nThis year’s Easter Egg Hunt begins at 11am at Dottie’s Playground on Church Street under the pavilion!\n\n\n\nWe will have age categories and sections in the playground. Watch for signs for your child’s age! Please don’t begin until we tell you!
URL:https://newalexpa.org/event/easter-egg-hunt-2/
LOCATION:PA
CATEGORIES:Activities Committee
ATTACH;FMTTYPE=image/jpeg:https://newalexpa.org/wp-content/uploads/2024/03/IMG_2607.jpg
ORGANIZER;CN="Activities Committee":MAILTO:activitiescommittee@newalexpa.org
END:VEVENT
BEGIN:VEVENT
DTSTART;VALUE=DATE:20250426
DTEND;VALUE=DATE:20250427
DTSTAMP:20260424T073929
CREATED:20250130T193055Z
LAST-MODIFIED:20250403T181336Z
UID:3902-1745625600-1745711999@newalexpa.org
SUMMARY:Loyalhanna Sojourn
DESCRIPTION:Loyalhanna Sojourn\nThe Annual Loyalhanna Sojourn is back!  What a great day on the water!  As in past events\, the event will begin at the Cardinal Park launch in Latrobe and continue 9 miles downstream to the boat launch at Gray Wing Park in New Alexandria.  Paddlers of all ages and levels of experience are welcome to attend this one-day float!  See the Loyalhanna Watershed for more information. \n\n\nPurpose of Event\n\nTo spend a great day on the water.\nSlots limited to 250 kayakers.\n\n  \nThe New Alex Activities Committee will host the After Paddle Party. \nVendor Application can be found HERE
URL:https://newalexpa.org/event/loyalhanna-sojourn/
LOCATION:Loyalhanna Creek\, Gray Wing Park\, New Alexandria\, PA\, 15670\, United States
CATEGORIES:Other Events
ATTACH;FMTTYPE=image/jpeg:https://newalexpa.org/wp-content/uploads/2024/01/IMG_0429-3-e1709488634495.jpg
ORGANIZER;CN="Sue Huba":MAILTO:susan@loyalwater.com
END:VEVENT
END:VCALENDAR